BEGIN:VCALENDAR
VERSION:2.0
PRODID:-//Onís y Punto - ECPv6.15.18//NONSGML v1.0//EN
CALSCALE:GREGORIAN
METHOD:PUBLISH
X-WR-CALNAME:Onís y Punto
X-ORIGINAL-URL:https://www.onisecoturismo.es/fr/
X-WR-CALDESC:Évènements pour Onís y Punto
REFRESH-INTERVAL;VALUE=DURATION:PT1H
X-Robots-Tag:noindex
X-PUBLISHED-TTL:PT1H
BEGIN:VTIMEZONE
TZID:Europe/Madrid
BEGIN:DAYLIGHT
TZOFFSETFROM:+0100
TZOFFSETTO:+0200
TZNAME:CEST
DTSTART:20230326T010000
END:DAYLIGHT
BEGIN:STANDARD
TZOFFSETFROM:+0200
TZOFFSETTO:+0100
TZNAME:CET
DTSTART:20231029T010000
END:STANDARD
BEGIN:DAYLIGHT
TZOFFSETFROM:+0100
TZOFFSETTO:+0200
TZNAME:CEST
DTSTART:20240331T010000
END:DAYLIGHT
BEGIN:STANDARD
TZOFFSETFROM:+0200
TZOFFSETTO:+0100
TZNAME:CET
DTSTART:20241027T010000
END:STANDARD
BEGIN:DAYLIGHT
TZOFFSETFROM:+0100
TZOFFSETTO:+0200
TZNAME:CEST
DTSTART:20250330T010000
END:DAYLIGHT
BEGIN:STANDARD
TZOFFSETFROM:+0200
TZOFFSETTO:+0100
TZNAME:CET
DTSTART:20251026T010000
END:STANDARD
END:VTIMEZONE
BEGIN:VEVENT
DTSTART;VALUE=DATE:20241025
DTEND;VALUE=DATE:20241028
DTSTAMP:20260422T190917
CREATED:20241009T105243Z
LAST-MODIFIED:20241016T101121Z
UID:347161-1729814400-1730073599@www.onisecoturismo.es
SUMMARY:Concurso Nacional de Oveya Xalda 2024
DESCRIPTION:VIERNES 25 de octubre\n19.00h.  Proyección del Documental ‘XALDA: EXPERIENCIAS DE UNA RAZA »\nDegustación gratuita corderu xaldu guisao\nLUGAR: Centro Polivalentes Hrnos. Álvarez Marcos -Tullidi. Benia de Onís \nSÁBADO 26 de octubre\nA partir de las 17.00h:  Exposición de oveyas xaldas y concurso\nLUGAR: Recinto del Vallín. Benia de Onís \nDOMINGO 27 de octubre\nDe 10.00h  a 15.00h. Exposición y concurso oveyas xaldas\n12.00h. Exposición trabajos artesanos con lana\n13.00h. Demostración de trabajo con perros pastores\n13.30h. Degustación gratuita de corderu xaldu y productos locales\nLUGAR: Recinto del Vallín. Benia de Onís \n 
URL:https://www.onisecoturismo.es/fr/agenda/concurso-nacional-de-oveya-xalda-2024/
LOCATION:Benia de Onís\, Carr. General\, Benia de Onís\, Asturias\, 33556\, España
CATEGORIES:Certamen Ganadero,Cine,Concurso
ATTACH;FMTTYPE=image/jpeg:https://www.onisecoturismo.es/wp-content/uploads/2024/10/cartel-concurso-oveya-xalda-2024.jpeg
END:VEVENT
END:VCALENDAR