BEGIN:VCALENDAR
VERSION:2.0
PRODID:-//Onís y Punto - ECPv6.15.18//NONSGML v1.0//EN
CALSCALE:GREGORIAN
METHOD:PUBLISH
X-WR-CALNAME:Onís y Punto
X-ORIGINAL-URL:https://www.onisecoturismo.es/en/
X-WR-CALDESC:Events for Onís y Punto
REFRESH-INTERVAL;VALUE=DURATION:PT1H
X-Robots-Tag:noindex
X-PUBLISHED-TTL:PT1H
BEGIN:VTIMEZONE
TZID:Europe/Madrid
BEGIN:DAYLIGHT
TZOFFSETFROM:+0100
TZOFFSETTO:+0200
TZNAME:CEST
DTSTART:20220327T010000
END:DAYLIGHT
BEGIN:STANDARD
TZOFFSETFROM:+0200
TZOFFSETTO:+0100
TZNAME:CET
DTSTART:20221030T010000
END:STANDARD
BEGIN:DAYLIGHT
TZOFFSETFROM:+0100
TZOFFSETTO:+0200
TZNAME:CEST
DTSTART:20230326T010000
END:DAYLIGHT
BEGIN:STANDARD
TZOFFSETFROM:+0200
TZOFFSETTO:+0100
TZNAME:CET
DTSTART:20231029T010000
END:STANDARD
BEGIN:DAYLIGHT
TZOFFSETFROM:+0100
TZOFFSETTO:+0200
TZNAME:CEST
DTSTART:20240331T010000
END:DAYLIGHT
BEGIN:STANDARD
TZOFFSETFROM:+0200
TZOFFSETTO:+0100
TZNAME:CET
DTSTART:20241027T010000
END:STANDARD
END:VTIMEZONE
BEGIN:VEVENT
DTSTART;TZID=Europe/Madrid:20231106T100000
DTEND;TZID=Europe/Madrid:20231201T140000
DTSTAMP:20260424T093848
CREATED:20231016T141347Z
LAST-MODIFIED:20231017T122437Z
UID:345217-1699264800-1701439200@www.onisecoturismo.es
SUMMARY:Curso ingles para profesionales del Ecoturismo- BENIA DE ONIS
DESCRIPTION:Se realizarán 2 cursos distintos según el nivel (MCER) de partida de los alumnos y se hará una prueba de nivel previa a los preseleccionados para cada curso \n\nCurso para NIVEL A2.- Del 6 al 17 de noviembre de 2023\nCurso para NIVEL B1.- Del 20 de noviembre al 1 de diciembre\n\nEl horario en ambos casos será de lunes a viernes de 10.00h a 14.00h \nLugar de impartición de cursos: Instalaciones del Centro de Visitantes de las Montañas del Quebrantahuesos (Benia de Onís) \nOBJETIVOS\nDotar a los profesionales del sector en la zona de herramientas lingüísticas para comunicarse con sus clientes y potenciales clientes y facilitar así la labor comercial y de entrega de sus servicios al público angloparlante\nQue los participantes acaben el curso con un “Menú de Servicios” elaborado por ellos mismos en inglés de calidad\, con el que añadan valor a su empresa turística. \nDESTINATARIOS\n\nGuias/intérpretes\nPropietarios de establecimientos de hostelería (hoteles y restaurantes)\nQueserías\nComercios\n\nINSCRIPCIONES E INFORMACIÓN:\nwww.onisecoturismo.es/curso-de-ingles-para-profesionales-del-ecoturismo
URL:https://www.onisecoturismo.es/en/agenda/curso-ingles-ecoturismo-benia-onis/
LOCATION:Centro de Interpretación Montañas del Quebrantahuesos\, Finca Tullidi\, Benia de Onís\, Asturias\, 3356\, España
ATTACH;FMTTYPE=image/jpeg:https://www.onisecoturismo.es/wp-content/uploads/2023/10/Cartel-Curso-Ingles.jpg
END:VEVENT
END:VCALENDAR