BEGIN:VCALENDAR
VERSION:2.0
PRODID:-//Onís y Punto - ECPv6.15.18//NONSGML v1.0//EN
CALSCALE:GREGORIAN
METHOD:PUBLISH
X-WR-CALNAME:Onís y Punto
X-ORIGINAL-URL:https://www.onisecoturismo.es
X-WR-CALDESC:Eventos para Onís y Punto
REFRESH-INTERVAL;VALUE=DURATION:PT1H
X-Robots-Tag:noindex
X-PUBLISHED-TTL:PT1H
BEGIN:VTIMEZONE
TZID:Europe/Madrid
BEGIN:DAYLIGHT
TZOFFSETFROM:+0100
TZOFFSETTO:+0200
TZNAME:CEST
DTSTART:20250330T010000
END:DAYLIGHT
BEGIN:STANDARD
TZOFFSETFROM:+0200
TZOFFSETTO:+0100
TZNAME:CET
DTSTART:20251026T010000
END:STANDARD
BEGIN:DAYLIGHT
TZOFFSETFROM:+0100
TZOFFSETTO:+0200
TZNAME:CEST
DTSTART:20260329T010000
END:DAYLIGHT
BEGIN:STANDARD
TZOFFSETFROM:+0200
TZOFFSETTO:+0100
TZNAME:CET
DTSTART:20261025T010000
END:STANDARD
BEGIN:DAYLIGHT
TZOFFSETFROM:+0100
TZOFFSETTO:+0200
TZNAME:CEST
DTSTART:20270328T010000
END:DAYLIGHT
BEGIN:STANDARD
TZOFFSETFROM:+0200
TZOFFSETTO:+0100
TZNAME:CET
DTSTART:20271031T010000
END:STANDARD
END:VTIMEZONE
BEGIN:VEVENT
DTSTART;TZID=Europe/Madrid:20260429T180000
DTEND;TZID=Europe/Madrid:20260429T193000
DTSTAMP:20260425T162611
CREATED:20260424T115154Z
LAST-MODIFIED:20260424T121648Z
UID:349549-1777485600-1777491000@www.onisecoturismo.es
SUMMARY:Reunión Creación nueva Comunidad Energética 'Renova Onís Energía'
DESCRIPTION:TEMÁTICA: Presentación de «Renova Onís Energía» la nueva Comunidad Energética que se va a crear en Onís y que espera contar con la participación activa de los vecinos del Concejo interesados en adherirse a la misma como socios. \n«La energía de la gente lo cambia todo»\nOBJETIVOS: \n\nExponer brevemente qué es una Comunidad Energética (para aquellos vecinos que no pudisteis asistir a la anterior charla)\nExplicar las posibilidades de nuevos proyectos vinculados a energías renovables que se podrán acometer desde la nueva Comunidad Energética de Onís\nDar a conocer cuál será el formato de participación y los roles del Ayuntamiento y de los vecinos interesados en entrar en la Asociación.\nConformar la nueva Junta Directiva de la Comunidad Energética (Presidente/a\, Secretario/a\, Tesorero/a\, Vocal)\nRecopilar un listado de vecinos interesados a priori en formar parte de la Comunidad Energética en calidad de socios/as.La energía de la gente lo cambia todo\n\nPRESENTACIÓN A CARGO DE: \n\nClara Casanova (Técnica de Desarrollo Local del Ayuntamiento de Onís)\nAna García (Técnica de FAEN- Fundación Asturiana de la Energía)
URL:https://www.onisecoturismo.es/agenda/reunion-creacion-comunidad-energetica-onis/
LOCATION:Centro Municipal Álvarez Marcos (Tullidi)\, Ctra. Gral. AS-114 - Finca Tullidi\, Benia de Onís\, Onís\, 33556\, Spain
ATTACH;FMTTYPE=image/jpeg:https://www.onisecoturismo.es/wp-content/uploads/2026/04/Cartel-reunion-Renova-Onis-Energia-1.jpg
END:VEVENT
END:VCALENDAR